BEGIN:VCALENDAR
VERSION:2.0
PRODID:-//Texas Heavy//Event Calendar//EN
CALSCALE:GREGORIAN
METHOD:PUBLISH
BEGIN:VEVENT
UID:calendar-832@texasheavy.com
DTSTAMP:20260419T155344Z
DTSTART:20270418T010000Z
DTEND:20270418T040000Z
SUMMARY:BLACK TOOTH GRIN: The Tribute to Pantera
DESCRIPTION:BLACK TOOTH GRIN: The Tribute to Pantera
LOCATION:Come and Take It\, N/A\, Austin
END:VEVENT
END:VCALENDAR
